BEGIN:VCALENDAR
VERSION:2.0
PRODID:-//Strategic Purchasing Africa Resource Centre (SPARC) - ECPv6.1.2.2//NONSGML v1.0//EN
CALSCALE:GREGORIAN
METHOD:PUBLISH
X-WR-CALNAME:Strategic Purchasing Africa Resource Centre (SPARC)
X-ORIGINAL-URL:https://sparc.africa
X-WR-CALDESC:Events for Strategic Purchasing Africa Resource Centre (SPARC)
REFRESH-INTERVAL;VALUE=DURATION:PT1H
X-Robots-Tag:noindex
X-PUBLISHED-TTL:PT1H
BEGIN:VTIMEZONE
TZID:Africa/Nairobi
BEGIN:STANDARD
TZOFFSETFROM:+0300
TZOFFSETTO:+0300
TZNAME:EAT
DTSTART:20200101T000000
END:STANDARD
TZID:UTC
BEGIN:STANDARD
TZOFFSETFROM:+0000
TZOFFSETTO:+0000
TZNAME:UTC
DTSTART:20200101T000000
END:STANDARD
END:VTIMEZONE
BEGIN:VEVENT
DTSTART;TZID=Africa/Nairobi:20210727T140000
DTEND;TZID=Africa/Nairobi:20210727T160000
DTSTAMP:20260421T090042
CREATED:20210715T140735Z
LAST-MODIFIED:20210715T140909Z
UID:4608-1627394400-1627401600@sparc.africa
SUMMARY:“Exploring Universal Health Coverage Funding And Payment Reforms for Primary Health Care in Africa.”
DESCRIPTION:SAVE THE DATE\n\n\n\n\n\n\n\nAs part of its mandate to serve as a complimentary resource and partner to the many health financing initiatives on the African continent and globally\, SPARC has partnered with The African Forum for Primary Health Care (AfroPHC) to organize a webinar themed\, “Exploring Universal Health Coverage Funding And Payment Reforms for Primary Health Care in Africa.” \n\n\n\nThe webinar aims to provide a forum to share experiences and discuss issues affecting Primary Health Care (PHC) funding towards universal health coverage (UHC) advancement in Africa. The session will leverage country experiences of panelists to increase awareness of options for PHC Financing and brainstorm solutions to its challenges in Africa. \n\n\n\nThe webinar will have French translation services.
URL:https://sparc.africa/event/exploring-universal-health-coverage-funding-and-payment-reforms-for-primary-health-care-in-africa/
CATEGORIES:Webinar
ATTACH;FMTTYPE=image/png:https://sparc.africa/wp-content/uploads/2021/07/Main-Poster.png
END:VEVENT
BEGIN:VEVENT
DTSTART;TZID=Africa/Nairobi:20210713T180000
DTEND;TZID=Africa/Nairobi:20210713T190000
DTSTAMP:20260421T090042
CREATED:20210623T115038Z
LAST-MODIFIED:20210623T133800Z
UID:4528-1626199200-1626202800@sparc.africa
SUMMARY:Findings from Strategic Purchasing Mapping in Burkina Faso: Drivers of Progress\, Challenges and Recommendations’ from 3 pm GMT | 4 pm WAT | 6 pm EAT. #SPARCchat 15
DESCRIPTION:Broadly\, strategic purchasing is the efficient use of limited resources to deliver maximum health outcomes for everyone. It involves the use of information to make purchasing decisions\, including what to buy\, who to buy from and how to pay. Strategic purchasing explores ways to provide quality healthcare services to priority populations\, especially the most vulnerable and needy\, using limited resources. Burkina Faso has made progress in strategic health purchasing in its Gratuité program and community-based health insurance (CBHI) schemes by prioritizing services through explicit benefit packages\, contracting with providers\, and introducing output-based provider payment that links payment to service delivery objectives. Various forms of provider performance monitoring are used\, and Gratuité involves national and international nongovernmental organizations in auditing provider claims for accountability and transparency. This Twitter chat will explore Burkina Faso’s progress and challenges\, and recommendations made to improve strategic purchasing in light of the current status of purchasing functions in the country.
URL:https://sparc.africa/event/findings-from-strategic-purchasing-mapping-in-burkina-faso-drivers-of-progress-challenges-and-recommendations-from-3-pm-gmt-4-pm-wat-6-pm-eat-sparcchat-15/
CATEGORIES:Twitter Chat
END:VEVENT
BEGIN:VEVENT
DTSTART;TZID=Africa/Nairobi:20210630T160000
DTEND;TZID=Africa/Nairobi:20210630T173000
DTSTAMP:20260421T090042
CREATED:20210623T114616Z
LAST-MODIFIED:20210623T114617Z
UID:4525-1625068800-1625074200@sparc.africa
SUMMARY:Leveraging Performance-Based Financing for Strategic Health Purchasing
DESCRIPTION:The Strategic Purchasing Africa Resource Centre (SPARC) is pleased to invite you to the second webinar in the policy dialogue series “Strengthening Strategic Health Purchasing in Africa – Changing the Conversation.” This webinar will focus on Leveraging Performance-Based Financing (PBF) for Strategic Health Purchasing. \n\n\n\nThe webinar will take place on Wednesday\, June 30\, 2021\, from 4:00 – 5:30 PM (EAT).  In this webinar\, policymakers will highlight opportunities and challenges with moving health systems towards Strategic Health Purchasing leveraging PBF schemes that have been implemented in many countries of sub-Saharan Africa. The discussion will be grounded in the evidence synthesis SPARC conducted in partnership with KEMRI Wellcome Trust to examine whether and how PBF schemes can be leveraged for more holistic strategic purchasing in a country’s health system. \n\n\n\nPlease join the conversation that promises to “sparc” new insights and practical steps countries can take to better leverage strategic purchasing within current health financing systems to achieve universal health coverage goals. \n\n\n\nReal-time interpretation in French will be available. \n\n\n\nRegister here!
URL:https://sparc.africa/event/leveraging-performance-based-financing-for-strategic-health-purchasing/
CATEGORIES:Webinar
ATTACH;FMTTYPE=image/png:https://sparc.africa/wp-content/uploads/2021/06/Main-Poster-01.png
END:VEVENT
BEGIN:VEVENT
DTSTART;TZID=Africa/Nairobi:20210309T151500
DTEND;TZID=Africa/Nairobi:20210309T171500
DTSTAMP:20260421T090042
CREATED:20210218T104024Z
LAST-MODIFIED:20210218T125153Z
UID:3445-1615302900-1615310100@sparc.africa
SUMMARY:Strategic Health Purchasing - 'Changing the Conversation'
DESCRIPTION:Two years after the SPARC launch\, what has changed in the landscape of strategic health purchasing on the continent? Register for the SPARC session on day two of this year’s #AHAIC2021 virtual conference to learn more. Click here to register.
URL:https://sparc.africa/event/strategic-health-purchasing-changing-the-conversation/
CATEGORIES:Conference
ATTACH;FMTTYPE=image/png:https://sparc.africa/wp-content/uploads/2021/02/Website-1.png
END:VEVENT
BEGIN:VEVENT
DTSTART;TZID=Africa/Nairobi:20210209T180000
DTEND;TZID=Africa/Nairobi:20210209T190000
DTSTAMP:20260421T090042
CREATED:20210127T092850Z
LAST-MODIFIED:20210127T093616Z
UID:3274-1612893600-1612897200@sparc.africa
SUMMARY:February Twitter Chat: ‘The Role of Community Participation in Strategic Purchasing Interventions'
DESCRIPTION:What is the role of communities in Strategic Health Purchasing interventions? Are there avenues to inform the community about their rights\, obligations and entitlements? Join us on February 9th as we discuss this and much more.
URL:https://sparc.africa/event/february-twitter-chat-the-role-of-community-participation-in-strategic-purchasing-interventions/
LOCATION:Twitter
CATEGORIES:Twitter Chat
ATTACH;FMTTYPE=image/png:https://sparc.africa/wp-content/uploads/2021/01/Panelists-Poster.png
END:VEVENT
BEGIN:VEVENT
DTSTART;TZID=Africa/Nairobi:20201110T180000
DTEND;TZID=Africa/Nairobi:20201110T190000
DTSTAMP:20260421T090042
CREATED:20201029T110743Z
LAST-MODIFIED:20201029T110745Z
UID:2964-1605031200-1605034800@sparc.africa
SUMMARY:‘Enhancing Accountability Through Provider Contracts - How Provider Contracts Can Be Used To Align Provider Behaviour and Incentivize Quality Health Services’
DESCRIPTION:Africa needs to advance on its implementation of strategic health purchasing (SHP). Join us for our #SPARCchat VIII as we discuss how provider contracts can be used to align provider behaviour and incentivize quality health services.
URL:https://sparc.africa/event/enhancing-accountability-through-provider-contracts-how-provider-contracts-can-be-used-to-align-provider-behaviour-and-incentivize-quality-health-services/
LOCATION:Twitter
CATEGORIES:Twitter Chat
ATTACH;FMTTYPE=image/png:https://sparc.africa/wp-content/uploads/2020/10/Main-Poster-2.png
END:VEVENT
BEGIN:VEVENT
DTSTART;TZID=Africa/Nairobi:20201013T180000
DTEND;TZID=Africa/Nairobi:20201013T190000
DTSTAMP:20260421T090042
CREATED:20201002T123239Z
LAST-MODIFIED:20201005T135134Z
UID:2851-1602612000-1602615600@sparc.africa
SUMMARY:Advancing Strategic Health Purchasing in Africa – Exploring the Value of Involving Technical and Political Stakeholders
DESCRIPTION:As countries continue to make incremental progress on strategic health purchasing (SHP)\, it is increasingly important to measure and track their advancement as well as the system effects and results of their progress. SPARC’s technical partners populated the SHP progress mapping framework with baseline data for their countries\, and this work culminated in an in-person convening held between January 21 – 23\, 2020. \n\n\n\nThe SHP progress mapping framework is a tool that documents the SHP functions\, required SHP organizational capacities\, and related governance arrangements. It aims to identify how these SHP functions and capabilities are used as levers to improve resource allocation and accountability for quality health services\, as well as appropriate incentives to purchasers\, providers and consumers of health services. \n\n\n\nThis upcoming Twitter chat is part of a series to synthesize and discuss lessons and emerging themes across countries that participated in SPARC’s first progress mapping activity to answer questions on what works and why. In our first series\, we will be looking at unpacking the progress of strategic health purchasing in Africa and share knowledge on the importance of involving technical and political stakeholders in strategic purchasing reforms.
URL:https://sparc.africa/event/advancing-strategic-health-purchasing-in-africa-exploring-the-value-of-involving-technical-and-political-stakeholders/
LOCATION:Twitter
CATEGORIES:Twitter Chat
ATTACH;FMTTYPE=image/png:https://sparc.africa/wp-content/uploads/2020/10/Main-Poster-1.png
END:VEVENT
BEGIN:VEVENT
DTSTART;TZID=Africa/Nairobi:20200908T180000
DTEND;TZID=Africa/Nairobi:20200908T190000
DTSTAMP:20260421T090042
CREATED:20200904T075725Z
LAST-MODIFIED:20200907T100341Z
UID:2605-1599588000-1599591600@sparc.africa
SUMMARY:COVID-19 Response – A Global Perspective with Lessons from Africa on Strategic Health Purchasing.
DESCRIPTION:We shall be hosting our 6th edition of #SPARCchat. The topic of discussion will be “COVID-19 Response – A Global Perspective with Lessons from Africa on Strategic Health Purchasing. Our SPARCchat VI panelists are: \n\n\n\n\n \n\n\n\n\nNathaniel Otoo\, Senior Fellow\, Results for Development\n\n\n\nNathaniel Otoo is a Health Systems & Public Policy Consultant and a Senior Fellow at Results for Development Institute. He was the founding Executive Director of the Strategic Purchasing Africa Resource Centre (SPARC) hosted at Amref Health Africa in Nairobi\, Kenya. He has over 11-years of work experience in health insurance implementation and served as CEO of Ghana’s National Health Insurance Authority from 2015 to 2017. Nathaniel has contributed to and supported numerous global\, regional and local UHC activities and events. A founding member of the JLN\, and later its first convener\, Nathaniel is a member the Duke University Launch & Scale Speedometer Advisory Board. He also serves on several other boards. \n\n\n\n\n \n\n\n\n\nCheryl Cashin\, Managing Director\, Results for Development\n\n\n\nCheryl Cashin\, PhD\, is a managing director at Results for Development in the global health practice. In that role she co-leads a portfolio of more than 20 projects and initiatives in global health systems\, and she serves on R4D’s executive team. Dr. Cashin has led several initiatives at R4D that aim to build new models of support for countries to address complex health system issues. She designed the Provider Payment Mechanisms technical initiative of the Joint Learning Network for Universal Health Coverage (JLN) and has led the initiative since it was launched in 2011\, and she is currently leading R4D’s technical support to Strategic Purchasing Africa Resource Center (SPARC) in partnership with Amref Health Africa. \n\n\n\n\n \n\n\n\n\nDr Nkechi Olalere\, Executive Director\, SPARC\n\n\n\nDr. Nkechi Olalere is the Executive Director of the Strategic Purchasing Africa Resource Center (SPARC) and steers the organization’s vision of empowering countries with knowledge and practical tools to make access to affordable and quality health care a reality for all.  \n\n\n\nShe joined SPARC from the Clinton Health Access Initiative\, Inc. (CHAI) where she served as the Regional Technical Advisor\, supporting CHAI Sustainable Health Financing teams and their government partners in East and West Africa. Recently\, she also led CHAI’s support to the Rwanda Social Security Board as the Technical Advisor to the Community Based Health Insurance Scheme where she spearheaded various reforms. \n\n\n\nNkechi has over sixteen years’ experience in health financing implementation and before joining the development sector\, she served at different times\, as both start-up and turn-around C-suite executive in various health insurance firms operating the National Health Insurance Scheme and private health insurance plans in Nigeria.
URL:https://sparc.africa/event/covid-19-response-a-global-perspective-with-lessons-from-africa-on-strategic-health-purchasing/
CATEGORIES:Twitter Chat
ATTACH;FMTTYPE=image/png:https://sparc.africa/wp-content/uploads/2020/09/Main-Poster.png
END:VEVENT
BEGIN:VEVENT
DTSTART;TZID=Africa/Nairobi:20200811T180000
DTEND;TZID=Africa/Nairobi:20200811T190000
DTSTAMP:20260421T090042
CREATED:20200805T104559Z
LAST-MODIFIED:20200805T105025Z
UID:2438-1597168800-1597172400@sparc.africa
SUMMARY:SPARC TWITTER CHAT: The Role of Governance in Purchasing for the COVID-19 Response
DESCRIPTION:Join us for #SPARCchat V! We will be discussing\, “The Role of Governance in Purchasing for the COVID-19 Response.” \n\n\n\nSave the date \n\n\n\n11th August from 3PM GMT|4PM WAT|6PM EAT
URL:https://sparc.africa/event/sparc-twitter-chat-the-role-of-governance-in-purchasing-for-the-covid-19-response/
LOCATION:Twitter
END:VEVENT
BEGIN:VEVENT
DTSTART;TZID=Africa/Nairobi:20200730T170000
DTEND;TZID=Africa/Nairobi:20200730T180000
DTSTAMP:20260421T090042
CREATED:20200721T032342Z
LAST-MODIFIED:20200722T045820Z
UID:2326-1596128400-1596132000@sparc.africa
SUMMARY:Live Webinar: From the frontlines of the COVID-19 Response - Lessons learnt from Democratic Republic of Congo (DRC)
DESCRIPTION:You are invited to a Zoom webinar.\n\n\n\nWhen: Jul 30\, 2020 05:00 PM Nairobi \n\n\n\nTopic: From the frontlines of the COVID-19 Response – Lessons learnt from Democratic Republic of Congo (DRC) \n\n\n\nRegister in advance for this webinar: \n\n\n\nAfter registering\, you will receive a confirmation email containing information about joining the webinar. \n\n\n\nLearn More \n\n\n\nWebinar Speakers\n\n\n\nDr. Samuel Roger Kamba (Special Advisor\, Universal Health Coverage @DRC) \n\n\n\n\n\n\n\nDr. Samuel Roger Kamba is a medical doctor with 30 years of practice. He holds a medical degree from the University of Kinshasa and a post- graduate in Pediatrics from the University of Picardy\, Amiens\, France. He has over 22 years’ specialization experience in pediatrics and is a trainer in pediatrics resuscitation. \n\n\n\nIn 2019\, Dr. Kamba was nominated by the DRC President\, Felix Tshisekedi\, as the Special Adviser in charge of UHC\, to lead the effort to implement the President’s holistic vision of universal health care for the Congolese population. In this role\, he is responsible for the coordination of all state and private actors\, including religious health institutions involved in the establishment of UHC in the DRC and oversees the development of strategic and normative plans and documentation. To cope with COVID-19 impact\, Dr. Kamba was nominated by President Felix Tshisekedi as the COVID-19 Task Force Coordinator and personal representative. \n\n\n\nDr Gisèle Mbuyi (Surveillance\, Disease Control and Emergency & Disaster Management @Ministry of Health\, DRC) \n\n\n\n\n\n\n\nDr. Gisèle Mbuyi is a medical doctor with a bachelor’s degree from the University of Kinshasa and a Master’s degree in Public Health from the School of Public Health of the Université Libre de Bruxelles (2008-2009). She also holds a Master’s degree in eco-epidemiology from the University of Kinshasa (2014-2015). Since 2005\, she has been working in surveillance\, disease control\, and emergency and disaster management in the Ministry of Health of the Democratic Republic of Congo. Dr. Mbuyi is the Chair of the Epidemiological Surveillance Committee within the larger Multisectoral Committee in charge of fighting against the COVID-19 epidemic in the DRC. \n\n\n\nMr. Joel Lamika Kalabudi (National Communication Programme for Health Promotion (PNCPS) @Ministry of Public Health\, DRC) \n\n\n\n\n\n\n\nMr. Joel Lamika Kalabudi is a graduate of the University of Kinshasa with a degree in Organizational Communication. He is currently a researcher on behaviour change communication at the same university. He works at the Ministry of Public Health in the National Communication Programme for Health Promotion (PNCPS). With regard to the COVID – 19 pandemic in the DRC\, he is the Chairman of the Digital Communication\, handling of misinformation\, disinformation and community feedback pillar. Mr. Kalabudi is a member of the Risk Communication and Community Involvement Committee within the larger Multisectoral Committee in charge of fighting against the COVID-19 epidemic in the DRC. \n\n\n\nModerated by\n\n\n\nJoseph Maabo Tankwa\, Health Economist. Expert in Strategic Purchasing\, Researcher at Research for Development Intl & Africa Policy Management \n\n\n\n\n\n\n\n \n\n\n\nMr. Joseph Maabo Tankwa is a research consultant at Research for Development International (R4D Intl) and Africa Policy Management Consultancy Group. He is a graduate of the University of Yaoundé in Cameroon with a degree in Economics and a diploma in Education(Economics) from the Advanced Teachers Training College in Yaoundé. Mr. Tankwa is currently engaged in providing research services on Universal Health Coverage (UHC) at the Catholic University of Cameroon.   \n\n\n\n\n\n\n\n \n\n\n\n\nREGISTER
URL:https://sparc.africa/event/live-webinar-from-the-frontlines-of-the-covid-19-response-lessons-learnt-from-democratic-republic-of-congo-drc/
LOCATION:Zoom Webinar
CATEGORIES:Webinar
ATTACH;FMTTYPE=image/jpeg:https://sparc.africa/wp-content/uploads/2020/07/75b25f15-30ec-4891-9ba9-0d4b453ea83c.jpg
END:VEVENT
BEGIN:VEVENT
DTSTART;TZID=UTC:20200706T090000
DTEND;TZID=UTC:20200710T130000
DTSTAMP:20260421T090042
CREATED:20200706T070028Z
LAST-MODIFIED:20200706T073408Z
UID:2267-1594026000-1594386000@sparc.africa
SUMMARY:Universal Health Coverage Course for Health Leaders and Managers
DESCRIPTION:In the wake of the COVID-19 pandemic\, countries are working\ntowards advancing Universal Health Care (UHC) and strategic health\npurchasing (SHP) to guarantee service delivery to populations they\nserve.  \n\n\n\nSPARC has partnered with Amref International\nUniversity and the Institute of Capacity Development to build capacity\nof health leaders and managers across Africa in UHC and\nSHP.  \n\n\n\nOur inaugural five – day course commences today with\nthe first cohort from Amref Health Africa and strategic partners. \n\n\n\nThe course will cover the following key areas: \n\n\n\nIntroduction to health systemsIntroduction to UHCService CoverageFinancial ProtectionAdvocacy for UHCPopulation CoverageGovernance Arrangements for SHPClaims ManagementSocial AccountabilityHealth EquityProvider Payment Mechanisms\n\n\n\nLook out for this course in future as we shall be rolling it out to health leaders and managers in Africa.
URL:https://sparc.africa/event/universal-health-coverage-course-for-health-leaders-and-managers/
CATEGORIES:Training
ATTACH;FMTTYPE=image/png:https://sparc.africa/wp-content/uploads/2020/07/Course-Image.png
END:VEVENT
END:VCALENDAR