BEGIN:VCALENDAR
VERSION:2.0
PRODID:-//Strategic Purchasing Africa Resource Centre (SPARC) - ECPv6.1.2.2//NONSGML v1.0//EN
CALSCALE:GREGORIAN
METHOD:PUBLISH
X-WR-CALNAME:Strategic Purchasing Africa Resource Centre (SPARC)
X-ORIGINAL-URL:https://sparc.africa
X-WR-CALDESC:Events for Strategic Purchasing Africa Resource Centre (SPARC)
REFRESH-INTERVAL;VALUE=DURATION:PT1H
X-Robots-Tag:noindex
X-PUBLISHED-TTL:PT1H
BEGIN:VTIMEZONE
TZID:Africa/Nairobi
BEGIN:STANDARD
TZOFFSETFROM:+0300
TZOFFSETTO:+0300
TZNAME:EAT
DTSTART:20200101T000000
END:STANDARD
END:VTIMEZONE
BEGIN:VEVENT
DTSTART;TZID=Africa/Nairobi:20210727T140000
DTEND;TZID=Africa/Nairobi:20210727T160000
DTSTAMP:20260423T112452
CREATED:20210715T140735Z
LAST-MODIFIED:20210715T140909Z
UID:4608-1627394400-1627401600@sparc.africa
SUMMARY:“Exploring Universal Health Coverage Funding And Payment Reforms for Primary Health Care in Africa.”
DESCRIPTION:SAVE THE DATE\n\n\n\n\n\n\n\nAs part of its mandate to serve as a complimentary resource and partner to the many health financing initiatives on the African continent and globally\, SPARC has partnered with The African Forum for Primary Health Care (AfroPHC) to organize a webinar themed\, “Exploring Universal Health Coverage Funding And Payment Reforms for Primary Health Care in Africa.” \n\n\n\nThe webinar aims to provide a forum to share experiences and discuss issues affecting Primary Health Care (PHC) funding towards universal health coverage (UHC) advancement in Africa. The session will leverage country experiences of panelists to increase awareness of options for PHC Financing and brainstorm solutions to its challenges in Africa. \n\n\n\nThe webinar will have French translation services.
URL:https://sparc.africa/event/exploring-universal-health-coverage-funding-and-payment-reforms-for-primary-health-care-in-africa/
CATEGORIES:Webinar
ATTACH;FMTTYPE=image/png:https://sparc.africa/wp-content/uploads/2021/07/Main-Poster.png
END:VEVENT
BEGIN:VEVENT
DTSTART;TZID=Africa/Nairobi:20210630T160000
DTEND;TZID=Africa/Nairobi:20210630T173000
DTSTAMP:20260423T112452
CREATED:20210623T114616Z
LAST-MODIFIED:20210623T114617Z
UID:4525-1625068800-1625074200@sparc.africa
SUMMARY:Leveraging Performance-Based Financing for Strategic Health Purchasing
DESCRIPTION:The Strategic Purchasing Africa Resource Centre (SPARC) is pleased to invite you to the second webinar in the policy dialogue series “Strengthening Strategic Health Purchasing in Africa – Changing the Conversation.” This webinar will focus on Leveraging Performance-Based Financing (PBF) for Strategic Health Purchasing. \n\n\n\nThe webinar will take place on Wednesday\, June 30\, 2021\, from 4:00 – 5:30 PM (EAT).  In this webinar\, policymakers will highlight opportunities and challenges with moving health systems towards Strategic Health Purchasing leveraging PBF schemes that have been implemented in many countries of sub-Saharan Africa. The discussion will be grounded in the evidence synthesis SPARC conducted in partnership with KEMRI Wellcome Trust to examine whether and how PBF schemes can be leveraged for more holistic strategic purchasing in a country’s health system. \n\n\n\nPlease join the conversation that promises to “sparc” new insights and practical steps countries can take to better leverage strategic purchasing within current health financing systems to achieve universal health coverage goals. \n\n\n\nReal-time interpretation in French will be available. \n\n\n\nRegister here!
URL:https://sparc.africa/event/leveraging-performance-based-financing-for-strategic-health-purchasing/
CATEGORIES:Webinar
ATTACH;FMTTYPE=image/png:https://sparc.africa/wp-content/uploads/2021/06/Main-Poster-01.png
END:VEVENT
BEGIN:VEVENT
DTSTART;TZID=Africa/Nairobi:20200730T170000
DTEND;TZID=Africa/Nairobi:20200730T180000
DTSTAMP:20260423T112452
CREATED:20200721T032342Z
LAST-MODIFIED:20200722T045820Z
UID:2326-1596128400-1596132000@sparc.africa
SUMMARY:Live Webinar: From the frontlines of the COVID-19 Response - Lessons learnt from Democratic Republic of Congo (DRC)
DESCRIPTION:You are invited to a Zoom webinar.\n\n\n\nWhen: Jul 30\, 2020 05:00 PM Nairobi \n\n\n\nTopic: From the frontlines of the COVID-19 Response – Lessons learnt from Democratic Republic of Congo (DRC) \n\n\n\nRegister in advance for this webinar: \n\n\n\nAfter registering\, you will receive a confirmation email containing information about joining the webinar. \n\n\n\nLearn More \n\n\n\nWebinar Speakers\n\n\n\nDr. Samuel Roger Kamba (Special Advisor\, Universal Health Coverage @DRC) \n\n\n\n\n\n\n\nDr. Samuel Roger Kamba is a medical doctor with 30 years of practice. He holds a medical degree from the University of Kinshasa and a post- graduate in Pediatrics from the University of Picardy\, Amiens\, France. He has over 22 years’ specialization experience in pediatrics and is a trainer in pediatrics resuscitation. \n\n\n\nIn 2019\, Dr. Kamba was nominated by the DRC President\, Felix Tshisekedi\, as the Special Adviser in charge of UHC\, to lead the effort to implement the President’s holistic vision of universal health care for the Congolese population. In this role\, he is responsible for the coordination of all state and private actors\, including religious health institutions involved in the establishment of UHC in the DRC and oversees the development of strategic and normative plans and documentation. To cope with COVID-19 impact\, Dr. Kamba was nominated by President Felix Tshisekedi as the COVID-19 Task Force Coordinator and personal representative. \n\n\n\nDr Gisèle Mbuyi (Surveillance\, Disease Control and Emergency & Disaster Management @Ministry of Health\, DRC) \n\n\n\n\n\n\n\nDr. Gisèle Mbuyi is a medical doctor with a bachelor’s degree from the University of Kinshasa and a Master’s degree in Public Health from the School of Public Health of the Université Libre de Bruxelles (2008-2009). She also holds a Master’s degree in eco-epidemiology from the University of Kinshasa (2014-2015). Since 2005\, she has been working in surveillance\, disease control\, and emergency and disaster management in the Ministry of Health of the Democratic Republic of Congo. Dr. Mbuyi is the Chair of the Epidemiological Surveillance Committee within the larger Multisectoral Committee in charge of fighting against the COVID-19 epidemic in the DRC. \n\n\n\nMr. Joel Lamika Kalabudi (National Communication Programme for Health Promotion (PNCPS) @Ministry of Public Health\, DRC) \n\n\n\n\n\n\n\nMr. Joel Lamika Kalabudi is a graduate of the University of Kinshasa with a degree in Organizational Communication. He is currently a researcher on behaviour change communication at the same university. He works at the Ministry of Public Health in the National Communication Programme for Health Promotion (PNCPS). With regard to the COVID – 19 pandemic in the DRC\, he is the Chairman of the Digital Communication\, handling of misinformation\, disinformation and community feedback pillar. Mr. Kalabudi is a member of the Risk Communication and Community Involvement Committee within the larger Multisectoral Committee in charge of fighting against the COVID-19 epidemic in the DRC. \n\n\n\nModerated by\n\n\n\nJoseph Maabo Tankwa\, Health Economist. Expert in Strategic Purchasing\, Researcher at Research for Development Intl & Africa Policy Management \n\n\n\n\n\n\n\n \n\n\n\nMr. Joseph Maabo Tankwa is a research consultant at Research for Development International (R4D Intl) and Africa Policy Management Consultancy Group. He is a graduate of the University of Yaoundé in Cameroon with a degree in Economics and a diploma in Education(Economics) from the Advanced Teachers Training College in Yaoundé. Mr. Tankwa is currently engaged in providing research services on Universal Health Coverage (UHC) at the Catholic University of Cameroon.   \n\n\n\n\n\n\n\n \n\n\n\n\nREGISTER
URL:https://sparc.africa/event/live-webinar-from-the-frontlines-of-the-covid-19-response-lessons-learnt-from-democratic-republic-of-congo-drc/
LOCATION:Zoom Webinar
CATEGORIES:Webinar
ATTACH;FMTTYPE=image/jpeg:https://sparc.africa/wp-content/uploads/2020/07/75b25f15-30ec-4891-9ba9-0d4b453ea83c.jpg
END:VEVENT
END:VCALENDAR